BEGIN:VCALENDAR
VERSION:2.0
PRODID:-//Plone.org//NONSGML plone.app.event//EN
X-WR-TIMEZONE:Europe/Madrid
BEGIN:VEVENT
SUMMARY:Table ronde
DTSTART;TZID=Europe/Madrid;VALUE=DATE-TIME:20240112T173000
DTEND;TZID=Europe/Madrid;VALUE=DATE-TIME:20240112T183000
DTSTAMP;VALUE=DATE-TIME:20260420T154809Z
UID:9926a49294b67154de7f43725d3e7059
CREATED;VALUE=DATE-TIME:20240112T000000Z
CATEGORIES:Cursos,Agenda cultural
LOCATION:Centre Cívic El Gorg - Riera del Gorg, s/n
ORGANIZER:Biblioteca Municipal La Muntala
COMMENT:Preu: Activitat gratuïta
URL:https://www.svmontalt.cat/document.php?id=20994
END:VEVENT
END:VCALENDAR