BEGIN:VCALENDAR
VERSION:2.0
PRODID:-//Plone.org//NONSGML plone.app.event//EN
X-WR-TIMEZONE:Europe/Madrid
BEGIN:VEVENT
SUMMARY:Rua de Carnaval de l'Escola Sant Jordi
DTSTART;TZID=Europe/Madrid;VALUE=DATE-TIME:20240209T151500
DTEND;TZID=Europe/Madrid;VALUE=DATE-TIME:20240209T161500
DTSTAMP;VALUE=DATE-TIME:20260423T125522Z
UID:8bbb2796ce315d87a4037ecc1a51130a
CREATED;VALUE=DATE-TIME:20240209T000000Z
CATEGORIES:Festa,Agenda cultural,Infantils
LOCATION:Escola Sant Jordi - C/ Escoles, 10
ORGANIZER:Escola i AFA Sant Jordi
COMMENT:Preu: Gratuït
URL:https://www.svmontalt.cat/document.php?id=21178
END:VEVENT
END:VCALENDAR