BEGIN:VCALENDAR
VERSION:2.0
PRODID:-//Plone.org//NONSGML plone.app.event//EN
X-WR-TIMEZONE:Europe/Madrid
BEGIN:VEVENT
SUMMARY:Reunió de Participació Ciutadana amb les entitats locals
DTSTART;TZID=Europe/Madrid;VALUE=DATE-TIME:20240304T193000
DTEND;TZID=Europe/Madrid;VALUE=DATE-TIME:20240304T203000
DTSTAMP;VALUE=DATE-TIME:20260419T183052Z
UID:9cca73c32e51ab6aecb926173dc6c0a5
CREATED;VALUE=DATE-TIME:20240304T000000Z
LOCATION:Centre Cívic El Gorg - Riera del Gorg, s/n
ORGANIZER:Regidoria Participació Ciutadana
COMMENT:Preu: Gratuït
URL:https://www.svmontalt.cat/document.php?id=21246
END:VEVENT
END:VCALENDAR