BEGIN:VCALENDAR
VERSION:2.0
PRODID:-//Plone.org//NONSGML plone.app.event//EN
X-WR-TIMEZONE:Europe/Madrid
BEGIN:VEVENT
SUMMARY:Taller d'escultura - Comprenem els conflictes a través de l'art
DTSTART;TZID=Europe/Madrid;VALUE=DATE-TIME:20240306T180000
DTEND;TZID=Europe/Madrid;VALUE=DATE-TIME:20240306T190000
DTSTAMP;VALUE=DATE-TIME:20260419T175407Z
UID:4f6a4ce16157ba6cea4066f2ed32048f
CREATED;VALUE=DATE-TIME:20240306T000000Z
CATEGORIES:Infantils
LOCATION:Centre Cívic El Gorg - Riera del Gorg, s/n
ORGANIZER:Biblioteca Municipal La Muntala
COMMENT:Preu: Gratuït
DESCRIPTION:Programa Biblioteca Sense Fronteres
URL:https://www.svmontalt.cat/document.php?id=21254
END:VEVENT
END:VCALENDAR