BEGIN:VCALENDAR
VERSION:2.0
PRODID:-//Plone.org//NONSGML plone.app.event//EN
X-WR-TIMEZONE:Europe/Madrid
BEGIN:VEVENT
SUMMARY:Tarda de Bingo al Casal
DTSTART;TZID=Europe/Madrid;VALUE=DATE-TIME:20240306T183000
DTEND;TZID=Europe/Madrid;VALUE=DATE-TIME:20240306T193000
DTSTAMP;VALUE=DATE-TIME:20260419T102013Z
UID:8c2aba1775a97c96e8f22dff084bd5af
CREATED;VALUE=DATE-TIME:20240306T000000Z
LOCATION:Casal de la Gent Gran Els Xurravins - Riera del Gorg, s/n
ORGANIZER:Associació de Gent Gran Els Xurravins
URL:https://www.svmontalt.cat/document.php?id=21255
END:VEVENT
END:VCALENDAR