BEGIN:VCALENDAR
VERSION:2.0
PRODID:-//Plone.org//NONSGML plone.app.event//EN
X-WR-TIMEZONE:Europe/Madrid
BEGIN:VEVENT
SUMMARY:Tarda de Bingo al Casal
DTSTART;TZID=Europe/Madrid;VALUE=DATE-TIME:20240320T183000
DTEND;TZID=Europe/Madrid;VALUE=DATE-TIME:20240320T193000
DTSTAMP;VALUE=DATE-TIME:20260419T185309Z
UID:742d8924f9ebacc9eed13b918d693932
CREATED;VALUE=DATE-TIME:20240320T000000Z
LOCATION:Casal de la Gent Gran Els Xurravins - Riera del Gorg, s/n
ORGANIZER:Associació de Gent Gran Els Xurravins
URL:https://www.svmontalt.cat/document.php?id=21256
END:VEVENT
END:VCALENDAR