BEGIN:VCALENDAR
VERSION:2.0
PRODID:-//Plone.org//NONSGML plone.app.event//EN
X-WR-TIMEZONE:Europe/Madrid
BEGIN:VEVENT
SUMMARY:L'Hora del Conte
DTSTART;TZID=Europe/Madrid;VALUE=DATE-TIME:20080611T173000
DTEND;TZID=Europe/Madrid;VALUE=DATE-TIME:20080611T183000
DTSTAMP;VALUE=DATE-TIME:20260423T141429Z
UID:e5fe201e04273f34bda2703c2c20610a
CREATED;VALUE=DATE-TIME:20080611T000000Z
CATEGORIES:Literatura,Agenda cultural
LOCATION:Biblioteca Pública  La Muntala
ORGANIZER:Biblioteca Pública La Muntala
COMMENT:Preu: Gratuït
URL:https://www.svmontalt.cat/document.php?id=2129
END:VEVENT
END:VCALENDAR