BEGIN:VCALENDAR
VERSION:2.0
PRODID:-//Plone.org//NONSGML plone.app.event//EN
X-WR-TIMEZONE:Europe/Madrid
BEGIN:VEVENT
SUMMARY:El Bus del Consumidor visita la Plaça del Poble
DTSTART;TZID=Europe/Madrid;VALUE=DATE-TIME:20080619T103000
DTEND;TZID=Europe/Madrid;VALUE=DATE-TIME:20080619T113000
DTSTAMP;VALUE=DATE-TIME:20260425T145226Z
UID:c9e47b16d519eb1dbe65c1c6df55aca0
CREATED;VALUE=DATE-TIME:20080619T000000Z
LOCATION:Plaça del Poble
ORGANIZER:Ajuntament de Sant Vicenç de Montalt amb la col·laboració de la Diputació de Barcelona
COMMENT:Preu: gratuït
URL:https://www.svmontalt.cat/document.php?id=2144
END:VEVENT
END:VCALENDAR