BEGIN:VCALENDAR
VERSION:2.0
PRODID:-//Plone.org//NONSGML plone.app.event//EN
X-WR-TIMEZONE:Europe/Madrid
BEGIN:VEVENT
SUMMARY:Exposició: 'Origen del transport'
DTSTART;TZID=Europe/Madrid;VALUE=DATE-TIME:20240628T100000
DTEND;TZID=Europe/Madrid;VALUE=DATE-TIME:20240628T110000
DTSTAMP;VALUE=DATE-TIME:20260420T014411Z
UID:a65264a2637dd055490accda12801f2f
CREATED;VALUE=DATE-TIME:20240513T000000Z
CATEGORIES:Exposició,Agenda cultural
LOCATION:Casal de la Gent Gran Els Xurravins - Riera del Gorg, s/n
ORGANIZER:Associació de Gent Gran Els Xurravins
COMMENT:Preu: Gratuït
URL:https://www.svmontalt.cat/document.php?id=21476
END:VEVENT
END:VCALENDAR