BEGIN:VCALENDAR
VERSION:2.0
PRODID:-//Plone.org//NONSGML plone.app.event//EN
X-WR-TIMEZONE:Europe/Madrid
BEGIN:VEVENT
SUMMARY:Tarda de teatre, amb l'obra "Políticament incorrecte"
DTSTART;TZID=Europe/Madrid;VALUE=DATE-TIME:20080615T180000
DTEND;TZID=Europe/Madrid;VALUE=DATE-TIME:20080615T190000
DTSTAMP;VALUE=DATE-TIME:20260425T202150Z
UID:2284e52dac0bbf2d9e4b83e9824650ee
CREATED;VALUE=DATE-TIME:20080615T000000Z
CATEGORIES:Teatre,Agenda cultural
LOCATION:Centre Cívic El Gorg
ORGANIZER:Agrupació Teatral "Emled" amb la col·laboració de l'Ajuntament de Sant Vicenç de Montalt
COMMENT:Preu: Entrada general, 6 &#128;; majors de 65 anys, 3 &#128;.
URL:https://www.svmontalt.cat/document.php?id=2165
END:VEVENT
END:VCALENDAR