BEGIN:VCALENDAR
VERSION:2.0
PRODID:-//Plone.org//NONSGML plone.app.event//EN
X-WR-TIMEZONE:Europe/Madrid
BEGIN:VEVENT
SUMMARY:Tirada de petanca de Festa Major
DTSTART;TZID=Europe/Madrid;VALUE=DATE-TIME:20240810T180000
DTEND;TZID=Europe/Madrid;VALUE=DATE-TIME:20240810T190000
DTSTAMP;VALUE=DATE-TIME:20260423T065419Z
UID:91dd95be4b01c131c05451d41da1622e
CREATED;VALUE=DATE-TIME:20240810T000000Z
CATEGORIES:Esports
LOCATION:Pistes Municipals de Petanca - Avinguda Toni Sors, s/n
ORGANIZER:Club de Petanca Santvicentí
COMMENT:Preu: Gratuït
URL:https://www.svmontalt.cat/document.php?id=21779
END:VEVENT
END:VCALENDAR