BEGIN:VCALENDAR
VERSION:2.0
PRODID:-//Plone.org//NONSGML plone.app.event//EN
X-WR-TIMEZONE:Europe/Madrid
BEGIN:VEVENT
SUMMARY:Trobada del Grup de Suport Emocional i Ajuda Mútua
DTSTART;TZID=Europe/Madrid;VALUE=DATE-TIME:20241202T170000
DTEND;TZID=Europe/Madrid;VALUE=DATE-TIME:20241202T180000
DTSTAMP;VALUE=DATE-TIME:20260420T220607Z
UID:7601beb2acd683e089662a9834b247b4
CREATED;VALUE=DATE-TIME:20240930T000000Z
LOCATION:Centre Cívic El Gorg - Riera del Gorg, s/n
ORGANIZER:Regidoria de Benestar Social i la Diputació de Barcelona, amb la col·laboració d'AFAB
COMMENT:Preu: Gratuït
Durada: De 17 a 18.30 h
URL:https://www.svmontalt.cat/document.php?id=21927
END:VEVENT
END:VCALENDAR