BEGIN:VCALENDAR
VERSION:2.0
PRODID:-//Plone.org//NONSGML plone.app.event//EN
X-WR-TIMEZONE:Europe/Madrid
BEGIN:VEVENT
SUMMARY:Festa Infantil de Benvinguda a l'Estiu
DTSTART;TZID=Europe/Madrid;VALUE=DATE-TIME:20080706T180000
DTEND;TZID=Europe/Madrid;VALUE=DATE-TIME:20080706T190000
DTSTAMP;VALUE=DATE-TIME:20260419T170713Z
UID:c731252bce96d2cb0b17b78f80166bb6
CREATED;VALUE=DATE-TIME:20080706T000000Z
CATEGORIES:Festa,Agenda cultural,Infantils
LOCATION:Platja de Sant Vicenç de Montalt (al costat del Mòdul de Socors)
ORGANIZER:Associació Fem Sant Vicenç en col·laboració amb la Regidoria de Cultura
COMMENT:Preu: Gratuït
DESCRIPTION:A la platja (al costat del mòdul de socors)
URL:https://www.svmontalt.cat/document.php?id=2198
END:VEVENT
END:VCALENDAR