BEGIN:VCALENDAR
VERSION:2.0
PRODID:-//Plone.org//NONSGML plone.app.event//EN
X-WR-TIMEZONE:Europe/Madrid
BEGIN:VEVENT
SUMMARY:En ruta: Els Ports - La Sènia - Castell de l'Àirosa
DTSTART;TZID=Europe/Madrid;VALUE=DATE-TIME:20241124T000000
DTEND;TZID=Europe/Madrid;VALUE=DATE-TIME:20241124T010000
DTSTAMP;VALUE=DATE-TIME:20260423T023243Z
UID:acbcce4fed2111bc4d3964b2c91341ee
CREATED;VALUE=DATE-TIME:20241123T000000Z
CATEGORIES:Esports
LOCATION:Aparcament de l'Av. Toni Sors amb Av. Montaltnou - Av. Toni Sors
ORGANIZER:Montaltrek
URL:https://www.svmontalt.cat/document.php?id=21998
END:VEVENT
END:VCALENDAR