BEGIN:VCALENDAR
VERSION:2.0
PRODID:-//Plone.org//NONSGML plone.app.event//EN
X-WR-TIMEZONE:Europe/Madrid
BEGIN:VEVENT
SUMMARY:Tarda de ball al Cívic
DTSTART;TZID=Europe/Madrid;VALUE=DATE-TIME:20241124T180000
DTEND;TZID=Europe/Madrid;VALUE=DATE-TIME:20241124T190000
DTSTAMP;VALUE=DATE-TIME:20260423T102848Z
UID:e3b7b660c43fa90432e6d250f989ad77
CREATED;VALUE=DATE-TIME:20241124T000000Z
CATEGORIES:Festa,Música,Agenda cultural
LOCATION:Centre Cívic El Gorg - Riera del Gorg, s/n
ORGANIZER:Associació de Gent Gran Els Xurravins
COMMENT:Durada: De 18 a 20.30h
URL:https://www.svmontalt.cat/document.php?id=22000
END:VEVENT
END:VCALENDAR