BEGIN:VCALENDAR
VERSION:2.0
PRODID:-//Plone.org//NONSGML plone.app.event//EN
X-WR-TIMEZONE:Europe/Madrid
BEGIN:VEVENT
SUMMARY:Club de Feina
DTSTART;TZID=Europe/Madrid;VALUE=DATE-TIME:20080709T160000
DTEND;TZID=Europe/Madrid;VALUE=DATE-TIME:20080709T170000
DTSTAMP;VALUE=DATE-TIME:20260420T010937Z
UID:a88b332bfa9c20c6ddce09131d86d80c
CREATED;VALUE=DATE-TIME:20080709T000000Z
LOCATION:Telecentre (Centre Cívic El Gorg)
ORGANIZER:Regidoria de Promoció Econòmica
COMMENT:Preu: Gratuït
Durada: De 4 a 8 de la tarda
URL:https://www.svmontalt.cat/document.php?id=2217
END:VEVENT
END:VCALENDAR