BEGIN:VCALENDAR
VERSION:2.0
PRODID:-//Plone.org//NONSGML plone.app.event//EN
X-WR-TIMEZONE:Europe/Madrid
BEGIN:VEVENT
SUMMARY:Sortida de la Colla Gegantera a Argentona
DTSTART;TZID=Europe/Madrid;VALUE=DATE-TIME:20080712T000000
DTEND;TZID=Europe/Madrid;VALUE=DATE-TIME:20080712T010000
DTSTAMP;VALUE=DATE-TIME:20260421T230552Z
UID:afe33bc3f51083ffc1c9341d4d7b4b20
CREATED;VALUE=DATE-TIME:20080712T000000Z
CATEGORIES:Mostra,Agenda cultural
ORGANIZER:Colla de Geganters de Sant Vicenç de Montalt
URL:https://www.svmontalt.cat/document.php?id=2221
END:VEVENT
END:VCALENDAR