BEGIN:VCALENDAR
VERSION:2.0
PRODID:-//Plone.org//NONSGML plone.app.event//EN
X-WR-TIMEZONE:Europe/Madrid
BEGIN:VEVENT
SUMMARY:Balls de Saló al Cívic
DTSTART;TZID=Europe/Madrid;VALUE=DATE-TIME:20080727T180000
DTEND;TZID=Europe/Madrid;VALUE=DATE-TIME:20080727T190000
DTSTAMP;VALUE=DATE-TIME:20260426T031801Z
UID:435b32f64621dea3a6b8beba281327c8
CREATED;VALUE=DATE-TIME:20080727T000000Z
CATEGORIES:Dansa,Agenda cultural
LOCATION:Centre Cívic El Gorg
ORGANIZER:Regidoria de Cultura
COMMENT:Preu: Gratuït
URL:https://www.svmontalt.cat/document.php?id=2224
END:VEVENT
END:VCALENDAR