BEGIN:VCALENDAR
VERSION:2.0
PRODID:-//Plone.org//NONSGML plone.app.event//EN
X-WR-TIMEZONE:Europe/Madrid
BEGIN:VEVENT
SUMMARY:Mortadel·lo i Filemó, protagonitzen la VII Bibliogimcana de La Muntala
DTSTART;TZID=Europe/Madrid;VALUE=DATE-TIME:20080812T180000
DTEND;TZID=Europe/Madrid;VALUE=DATE-TIME:20080812T190000
DTSTAMP;VALUE=DATE-TIME:20260425T230232Z
UID:78942958832ce36f5b278c081353524d
CREATED;VALUE=DATE-TIME:20080812T000000Z
CATEGORIES:Infantils
LOCATION:Biblioteca Municipal La Muntala, Centre Cívic El Gorg i Piscina Municipal
ORGANIZER:Biblioteca Municipal La Muntala
COMMENT:Preu: Gratuït
URL:https://www.svmontalt.cat/document.php?id=2240
END:VEVENT
END:VCALENDAR