BEGIN:VCALENDAR
VERSION:2.0
PRODID:-//Plone.org//NONSGML plone.app.event//EN
X-WR-TIMEZONE:Europe/Madrid
BEGIN:VEVENT
SUMMARY:Ball de Nit a Montaltpark, amb el duo "Nova Gamma"
DTSTART;TZID=Europe/Madrid;VALUE=DATE-TIME:20080816T230000
DTEND;TZID=Europe/Madrid;VALUE=DATE-TIME:20080817T000000
DTSTAMP;VALUE=DATE-TIME:20260426T043151Z
UID:f704fef4f6fe892858e3a140c52045aa
CREATED;VALUE=DATE-TIME:20080816T000000Z
CATEGORIES:Festa,Agenda cultural
LOCATION:Montaltpark
ORGANIZER:Regidoria de Cultura
COMMENT:Preu: Gratuït
URL:https://www.svmontalt.cat/document.php?id=2252
END:VEVENT
END:VCALENDAR