BEGIN:VCALENDAR
VERSION:2.0
PRODID:-//Plone.org//NONSGML plone.app.event//EN
X-WR-TIMEZONE:Europe/Madrid
BEGIN:VEVENT
SUMMARY:Ball de Nit a la Riera de Torrentbó, amb l'organista "Lluís"
DTSTART;TZID=Europe/Madrid;VALUE=DATE-TIME:20080817T230000
DTEND;TZID=Europe/Madrid;VALUE=DATE-TIME:20080818T000000
DTSTAMP;VALUE=DATE-TIME:20260426T031859Z
UID:e56677e35e6d99472796683963c42923
CREATED;VALUE=DATE-TIME:20080817T000000Z
CATEGORIES:Festa,Agenda cultural
LOCATION:Riera de Torrentbó
ORGANIZER:Regidoria de Cultura
COMMENT:Preu: Gratuït
URL:https://www.svmontalt.cat/document.php?id=2253
END:VEVENT
END:VCALENDAR