BEGIN:VCALENDAR
VERSION:2.0
PRODID:-//Plone.org//NONSGML plone.app.event//EN
X-WR-TIMEZONE:Europe/Madrid
BEGIN:VEVENT
SUMMARY:&#147;Refugiats. Vides en trànsit&#148; ens acosta a la realitat dels camps de refugiats
DTSTART;TZID=Europe/Madrid;VALUE=DATE-TIME:20081117T100000
DTEND;TZID=Europe/Madrid;VALUE=DATE-TIME:20081117T110000
DTSTAMP;VALUE=DATE-TIME:20260426T031101Z
UID:6a9ab12617f9cc43f07f60ec7bf6c79e
CREATED;VALUE=DATE-TIME:20081117T000000Z
CATEGORIES:Exposició,Agenda cultural
LOCATION:Biblioteca Municipal La Muntala
ORGANIZER:Biblioteca Municipal La Muntala i Fundació La Caixa
COMMENT:Preu: Gratuït
Durada: Del 23 d'octubre al 13 de novembre
DESCRIPTION:Oberta fins al 13 de novembre
URL:https://www.svmontalt.cat/document.php?id=2255
END:VEVENT
END:VCALENDAR