BEGIN:VCALENDAR
VERSION:2.0
PRODID:-//Plone.org//NONSGML plone.app.event//EN
X-WR-TIMEZONE:Europe/Madrid
BEGIN:VEVENT
SUMMARY:Sessió de lectura en veu alta
DTSTART;TZID=Europe/Madrid;VALUE=DATE-TIME:20260120T190000
DTEND;TZID=Europe/Madrid;VALUE=DATE-TIME:20260120T200000
DTSTAMP;VALUE=DATE-TIME:20260426T025903Z
UID:b84f672be9abd0a75470821feb94ecdc
CREATED;VALUE=DATE-TIME:20260120T000000Z
CATEGORIES:Cursos,Agenda cultural
LOCATION:Centre Cívic El Gorg - Riera del Gorg, s/n
ORGANIZER:Biblioteca Municipal La Muntala
COMMENT:Preu: Activitat gratuïta
DESCRIPTION:Acte suspès com a mostra de dol oficial, record i solidaritat amb les víctimes del tràgic accident ferroviari ocorregut a Adamuz
URL:https://www.svmontalt.cat/document.php?id=23418
END:VEVENT
END:VCALENDAR