BEGIN:VCALENDAR
VERSION:2.0
PRODID:-//Plone.org//NONSGML plone.app.event//EN
X-WR-TIMEZONE:Europe/Madrid
BEGIN:VEVENT
SUMMARY:Round table
DTSTART;TZID=Europe/Madrid;VALUE=DATE-TIME:20260123T190000
DTEND;TZID=Europe/Madrid;VALUE=DATE-TIME:20260123T200000
DTSTAMP;VALUE=DATE-TIME:20260426T014222Z
UID:ad7d574460bb9e2b1ad26c8ac38d0f69
CREATED;VALUE=DATE-TIME:20260123T000000Z
CATEGORIES:Cursos,Agenda cultural
LOCATION:Biblioteca Municipal La Muntala - Riera del Gorg, s/n
ORGANIZER:Biblioteca Municipal La Muntala
COMMENT:Preu: Gratuït
DESCRIPTION:A càrrec de Carles de Aguilar-Amat
URL:https://www.svmontalt.cat/document.php?id=23420
END:VEVENT
END:VCALENDAR