BEGIN:VCALENDAR
VERSION:2.0
PRODID:-//Plone.org//NONSGML plone.app.event//EN
X-WR-TIMEZONE:Europe/Madrid
BEGIN:VEVENT
SUMMARY:Repicada i tronada en honor a Sant Vicenç, missa solemne, sardanes i vermut popular
DTSTART;TZID=Europe/Madrid;VALUE=DATE-TIME:20260124T100000
DTEND;TZID=Europe/Madrid;VALUE=DATE-TIME:20260124T110000
DTSTAMP;VALUE=DATE-TIME:20260426T014207Z
UID:1b5c4eb79227d5b4080d0ba171ecd57e
CREATED;VALUE=DATE-TIME:20260124T000000Z
CATEGORIES:Festa,Agenda cultural
LOCATION:Parròquia de Sant Vicenç i Centre Cívic El Gorg
ORGANIZER:Regidoria de Cultura, Festes i Tradicions
COMMENT:Preu: Gratuït
URL:https://www.svmontalt.cat/document.php?id=23424
END:VEVENT
END:VCALENDAR