BEGIN:VCALENDAR
VERSION:2.0
PRODID:-//Plone.org//NONSGML plone.app.event//EN
X-WR-TIMEZONE:Europe/Madrid
BEGIN:VEVENT
SUMMARY:Torneig de billar
DTSTART;TZID=Europe/Madrid;VALUE=DATE-TIME:20260124T110000
DTEND;TZID=Europe/Madrid;VALUE=DATE-TIME:20260124T120000
DTSTAMP;VALUE=DATE-TIME:20260426T014152Z
UID:26468135450f4853b704e693985b894f
CREATED;VALUE=DATE-TIME:20260124T000000Z
CATEGORIES:Esports
LOCATION:Casal de la Gent Gran Els Xurravins - Riera del Gorg, s/n
ORGANIZER:Associació de Gent Gran Els Xurravins
COMMENT:Preu: Gratuït
URL:https://www.svmontalt.cat/document.php?id=23426
END:VEVENT
END:VCALENDAR