BEGIN:VCALENDAR
VERSION:2.0
PRODID:-//Plone.org//NONSGML plone.app.event//EN
X-WR-TIMEZONE:Europe/Madrid
BEGIN:VEVENT
SUMMARY:Làser Tag a la plaça de l'Església
DTSTART;TZID=Europe/Madrid;VALUE=DATE-TIME:20260124T103000
DTEND;TZID=Europe/Madrid;VALUE=DATE-TIME:20260124T113000
DTSTAMP;VALUE=DATE-TIME:20260426T025933Z
UID:0e0ba908e1b1c39df014c08577f87778
CREATED;VALUE=DATE-TIME:20260124T000000Z
CATEGORIES:Festa,Agenda cultural
LOCATION:Plaça de l'Església - Plaça de l'Esglèsia, s/n
ORGANIZER:Regidoria d'Infància i Joventut
DESCRIPTION:En cas de pluja, l'activitat es durà a terme a la pista annexa del Pavelló Municipal Toni Sors
URL:https://www.svmontalt.cat/document.php?id=23429
END:VEVENT
END:VCALENDAR