BEGIN:VCALENDAR
VERSION:2.0
PRODID:-//Plone.org//NONSGML plone.app.event//EN
X-WR-TIMEZONE:Europe/Madrid
BEGIN:VEVENT
SUMMARY:En ruta pel Coll de Banyuls - Pic de Sallafort - Torre de Madaloc
DTSTART;TZID=Europe/Madrid;VALUE=DATE-TIME:20260125T000000
DTEND;TZID=Europe/Madrid;VALUE=DATE-TIME:20260125T010000
DTSTAMP;VALUE=DATE-TIME:20260426T023108Z
UID:d6dd102b76dab0e893b0cce6fa4ec910
CREATED;VALUE=DATE-TIME:20260125T000000Z
CATEGORIES:Esports
LOCATION:Aparcament Av. Toni Sors
ORGANIZER:Montaltrek
URL:https://www.svmontalt.cat/document.php?id=23430
END:VEVENT
END:VCALENDAR