BEGIN:VCALENDAR
VERSION:2.0
PRODID:-//Plone.org//NONSGML plone.app.event//EN
X-WR-TIMEZONE:Europe/Madrid
BEGIN:VEVENT
SUMMARY:Acte de celebració de l´obertura del nou IES de Sant Vicenç
DTSTART;TZID=Europe/Madrid;VALUE=DATE-TIME:20080928T120000
DTEND;TZID=Europe/Madrid;VALUE=DATE-TIME:20080928T130000
DTSTAMP;VALUE=DATE-TIME:20260421T214251Z
UID:528a29879ea02fa3c446a47f7c20e832
CREATED;VALUE=DATE-TIME:20080928T000000Z
CATEGORIES:Festa,Agenda cultural
LOCATION:Institut de Sant Vicenç (Camí del Padró)
ORGANIZER:Regidoria d'Educació i IES de Sant Vicenç
COMMENT:Preu: Gratuït
URL:https://www.svmontalt.cat/document.php?id=2364
END:VEVENT
END:VCALENDAR