BEGIN:VCALENDAR
VERSION:2.0
PRODID:-//Plone.org//NONSGML plone.app.event//EN
X-WR-TIMEZONE:Europe/Madrid
BEGIN:VEVENT
SUMMARY:Revisions auditives gratuïtes
DTSTART;TZID=Europe/Madrid;VALUE=DATE-TIME:20081001T160000
DTEND;TZID=Europe/Madrid;VALUE=DATE-TIME:20081001T170000
DTSTAMP;VALUE=DATE-TIME:20260421T230302Z
UID:88b6554bab7a3c1d9e89445075be9b57
CREATED;VALUE=DATE-TIME:20081001T000000Z
LOCATION:Centre Cívic El Gorg
ORGANIZER:Regidories de Benestar Social i de Sanitat en col·laboració amb l'Associació de Gent Gran Els Xurravins
COMMENT:Preu: Gratuït
Durada: De 4 a 7 de la tarda
URL:https://www.svmontalt.cat/document.php?id=2368
END:VEVENT
END:VCALENDAR