BEGIN:VCALENDAR
VERSION:2.0
PRODID:-//Plone.org//NONSGML plone.app.event//EN
X-WR-TIMEZONE:Europe/Madrid
BEGIN:VEVENT
SUMMARY:L'Hora del Conte
DTSTART;TZID=Europe/Madrid;VALUE=DATE-TIME:20081001T173000
DTEND;TZID=Europe/Madrid;VALUE=DATE-TIME:20081001T183000
DTSTAMP;VALUE=DATE-TIME:20260421T213956Z
UID:7936fc8494b7061fa2a5fade065d9d0a
CREATED;VALUE=DATE-TIME:20081001T000000Z
CATEGORIES:Literatura,Agenda cultural
LOCATION:Biblioteca Pública  La Muntala
ORGANIZER:Biblioteca Pública La Muntala
COMMENT:Preu: Gratuït
DESCRIPTION:Contes del Mediterrani
URL:https://www.svmontalt.cat/document.php?id=2372
END:VEVENT
END:VCALENDAR