BEGIN:VCALENDAR
VERSION:2.0
PRODID:-//Plone.org//NONSGML plone.app.event//EN
X-WR-TIMEZONE:Europe/Madrid
BEGIN:VEVENT
SUMMARY:Presentació del llibre &#147;Només ho diuen. Històries de Bòbuls i Margaridasses&#147;
DTSTART;TZID=Europe/Madrid;VALUE=DATE-TIME:20260422T190000
DTEND;TZID=Europe/Madrid;VALUE=DATE-TIME:20260422T200000
DTSTAMP;VALUE=DATE-TIME:20260421T185545Z
UID:1e4aff792642a76d982b91fa9172a83c
CREATED;VALUE=DATE-TIME:20260422T000000Z
CATEGORIES:Literatura,Agenda cultural
LOCATION:Biblioteca Municipal La Muntala - Riera del Gorg, s/n
ORGANIZER:Biblioteca Municipal La Muntala
COMMENT:Preu: Gratuït
URL:https://www.svmontalt.cat/document.php?id=23855
END:VEVENT
END:VCALENDAR