BEGIN:VCALENDAR
VERSION:2.0
PRODID:-//Plone.org//NONSGML plone.app.event//EN
X-WR-TIMEZONE:Europe/Madrid
BEGIN:VEVENT
SUMMARY:Taller de punts de llibre artesanals amb flors seques
DTSTART;TZID=Europe/Madrid;VALUE=DATE-TIME:20260423T113000
DTEND;TZID=Europe/Madrid;VALUE=DATE-TIME:20260423T123000
DTSTAMP;VALUE=DATE-TIME:20260421T172622Z
UID:e52481f96fd3e99c2cd1d89569ca37c4
CREATED;VALUE=DATE-TIME:20260423T000000Z
CATEGORIES:Literatura,Agenda cultural
LOCATION:Biblioteca Municipal La Muntala - Riera del Gorg, s/n
ORGANIZER:Biblioteca Municipal La Muntala
COMMENT:Preu: Gratuït
DESCRIPTION:A càrrec de Fermina Valle
URL:https://www.svmontalt.cat/document.php?id=23856
END:VEVENT
END:VCALENDAR