BEGIN:VCALENDAR
VERSION:2.0
PRODID:-//Plone.org//NONSGML plone.app.event//EN
X-WR-TIMEZONE:Europe/Madrid
BEGIN:VEVENT
SUMMARY:Taula rodona d'autors
DTSTART;TZID=Europe/Madrid;VALUE=DATE-TIME:20260423T190000
DTEND;TZID=Europe/Madrid;VALUE=DATE-TIME:20260423T200000
DTSTAMP;VALUE=DATE-TIME:20260421T160021Z
UID:7a4fc3e69dee2e5f0ff72cdf01f4a1b2
CREATED;VALUE=DATE-TIME:20260423T000000Z
CATEGORIES:Conferència,Agenda cultural
LOCATION:Biblioteca Municipal La Muntala - Riera del Gorg, s/n
ORGANIZER:Biblioteca Municipal La Muntala
COMMENT:Preu: Gratuït
URL:https://www.svmontalt.cat/document.php?id=23857
END:VEVENT
END:VCALENDAR