BEGIN:VCALENDAR
VERSION:2.0
PRODID:-//Plone.org//NONSGML plone.app.event//EN
X-WR-TIMEZONE:Europe/Madrid
BEGIN:VEVENT
SUMMARY:Sant Jordi a la Plaça!
DTSTART;TZID=Europe/Madrid;VALUE=DATE-TIME:20260425T103000
DTEND;TZID=Europe/Madrid;VALUE=DATE-TIME:20260425T113000
DTSTAMP;VALUE=DATE-TIME:20260421T172652Z
UID:c83efe5add1acf999376952e7704a2bf
CREATED;VALUE=DATE-TIME:20260425T000000Z
CATEGORIES:Festa,Literatura,Infantils,Agenda cultural
LOCATION:Plaça del Poble - Plaça del Poble, s/n
ORGANIZER:Regidories de Cultura, Festes i Tradicions, Educació i Infància i Joventut
COMMENT:Preu: Gratuït
Durada: De 10.30 a 14 h
URL:https://www.svmontalt.cat/document.php?id=23859
END:VEVENT
END:VCALENDAR