BEGIN:VCALENDAR
VERSION:2.0
PRODID:-//Plone.org//NONSGML plone.app.event//EN
X-WR-TIMEZONE:Europe/Madrid
BEGIN:VEVENT
SUMMARY:Festa de les Lletres
DTSTART;TZID=Europe/Madrid;VALUE=DATE-TIME:20260425T180000
DTEND;TZID=Europe/Madrid;VALUE=DATE-TIME:20260425T190000
DTSTAMP;VALUE=DATE-TIME:20260421T160109Z
UID:33955d2c9bc2de920dd0b4860aaff539
CREATED;VALUE=DATE-TIME:20260425T000000Z
CATEGORIES:Festa,Literatura,Agenda cultural
LOCATION:Centre Cívic El Gorg - Riera del Gorg, s/n
ORGANIZER:Regidoria de Cultura, Festes i Tradicions i Biblioteca Municipal La Muntala
COMMENT:Preu: Gratuït
URL:https://www.svmontalt.cat/document.php?id=23860
END:VEVENT
END:VCALENDAR