BEGIN:VCALENDAR
VERSION:2.0
PRODID:-//Plone.org//NONSGML plone.app.event//EN
X-WR-TIMEZONE:Europe/Madrid
BEGIN:VEVENT
SUMMARY:Club de lectura amb Jordi Brunet
DTSTART;TZID=Europe/Madrid;VALUE=DATE-TIME:20260508T190000
DTEND;TZID=Europe/Madrid;VALUE=DATE-TIME:20260508T200000
DTSTAMP;VALUE=DATE-TIME:20260423T140822Z
UID:ce293e830a9c2677db351632f8f9e015
CREATED;VALUE=DATE-TIME:20260508T000000Z
CATEGORIES:Literatura,Agenda cultural
LOCATION:Biblioteca Municipal La Muntala - Riera del Gorg, s/n
ORGANIZER:Biblioteca Municipal La Muntala
COMMENT:Preu: Gratuït
URL:https://www.svmontalt.cat/document.php?id=23868
END:VEVENT
END:VCALENDAR