BEGIN:VCALENDAR
VERSION:2.0
PRODID:-//Plone.org//NONSGML plone.app.event//EN
X-WR-TIMEZONE:Europe/Madrid
BEGIN:VEVENT
SUMMARY:Xavier Carles i Imma Ortiz: Paraules d'amor
DTSTART;TZID=Europe/Madrid;VALUE=DATE-TIME:20260509T190000
DTEND;TZID=Europe/Madrid;VALUE=DATE-TIME:20260509T200000
DTSTAMP;VALUE=DATE-TIME:20260423T113515Z
UID:5111a08fae8d44eddc48680066df2c72
CREATED;VALUE=DATE-TIME:20260509T000000Z
CATEGORIES:Música,Agenda cultural
LOCATION:Centre Cívic El Gorg - Riera del Gorg, s/n
ORGANIZER:Regidoria de Cultura, Festes i Tradicions
COMMENT:Preu: 7 euros (inclou copa de vi i fruits secs)
URL:https://www.svmontalt.cat/document.php?id=23869
END:VEVENT
END:VCALENDAR