BEGIN:VCALENDAR
VERSION:2.0
PRODID:-//Plone.org//NONSGML plone.app.event//EN
X-WR-TIMEZONE:Europe/Madrid
BEGIN:VEVENT
SUMMARY:Campanya de donació de sang i plasma
DTSTART;TZID=Europe/Madrid;VALUE=DATE-TIME:20260510T100000
DTEND;TZID=Europe/Madrid;VALUE=DATE-TIME:20260510T110000
DTSTAMP;VALUE=DATE-TIME:20260421T075827Z
UID:5610bf453cdc7f51562070a13935efe8
CREATED;VALUE=DATE-TIME:20260510T000000Z
CATEGORIES:Mostra
LOCATION:Centre Cívic El Gorg - Riera del Gorg, s/n
ORGANIZER:Banc de Sang i Teixits i Associació de Donants de Sang del Maresme amb la col·laboració de la Regidoria de Salut
COMMENT:Preu: Gratuït
Durada: De 10 a 14 h
DESCRIPTION:"Toca donar sang, toca rebre vida"
URL:https://www.svmontalt.cat/document.php?id=23870
END:VEVENT
END:VCALENDAR