BEGIN:VCALENDAR
VERSION:2.0
PRODID:-//Plone.org//NONSGML plone.app.event//EN
X-WR-TIMEZONE:Europe/Madrid
BEGIN:VEVENT
SUMMARY:En ruta pels Cingles de Malanyeu
DTSTART;TZID=Europe/Madrid;VALUE=DATE-TIME:20260510T080000
DTEND;TZID=Europe/Madrid;VALUE=DATE-TIME:20260510T090000
DTSTAMP;VALUE=DATE-TIME:20260421T062451Z
UID:bc3ef0cfcf7da25fddacd78358e6bc33
CREATED;VALUE=DATE-TIME:20260510T000000Z
CATEGORIES:Esports
LOCATION:Aparcament Av. Toni Sors - Avinguda Toni Sors, s/n
ORGANIZER:Montaltrek
URL:https://www.svmontalt.cat/document.php?id=23871
END:VEVENT
END:VCALENDAR