BEGIN:VCALENDAR
VERSION:2.0
PRODID:-//Plone.org//NONSGML plone.app.event//EN
X-WR-TIMEZONE:Europe/Madrid
BEGIN:VEVENT
SUMMARY:Taller de gestió emocional: &#147;Saps meditar?&#148;
DTSTART;TZID=Europe/Madrid;VALUE=DATE-TIME:20260511T180000
DTEND;TZID=Europe/Madrid;VALUE=DATE-TIME:20260511T190000
DTSTAMP;VALUE=DATE-TIME:20260421T062315Z
UID:2735ba34baec1d79539707a74207cfea
CREATED;VALUE=DATE-TIME:20260511T000000Z
CATEGORIES:Conferència,Agenda cultural
LOCATION:Biblioteca Municipal La Muntala - Riera del Gorg, s/n
ORGANIZER:Biblioteca Municipal La Muntala
COMMENT:Preu: Gratuït
URL:https://www.svmontalt.cat/document.php?id=23872
END:VEVENT
END:VCALENDAR