BEGIN:VCALENDAR
VERSION:2.0
PRODID:-//Plone.org//NONSGML plone.app.event//EN
X-WR-TIMEZONE:Europe/Madrid
BEGIN:VEVENT
SUMMARY:Portes obertes a l'escola bressol
DTSTART;TZID=Europe/Madrid;VALUE=DATE-TIME:20260424T173000
DTEND;TZID=Europe/Madrid;VALUE=DATE-TIME:20260424T183000
DTSTAMP;VALUE=DATE-TIME:20260425T200813Z
UID:c24a5f8846ff57ada747f0ead6138633
CREATED;VALUE=DATE-TIME:20260424T000000Z
CATEGORIES:Visita guiada
LOCATION:Escola Bressol Municipal Els Garrofers - Riera del Gorg, s/n
ORGANIZER:Escola Bressol Municipal Els Garrofers
COMMENT:Preu: Gratuït
Durada: De 17.30 a 19 h
URL:https://www.svmontalt.cat/document.php?id=23878
END:VEVENT
END:VCALENDAR