BEGIN:VCALENDAR
VERSION:2.0
PRODID:-//Plone.org//NONSGML plone.app.event//EN
X-WR-TIMEZONE:Europe/Madrid
BEGIN:VEVENT
SUMMARY:Tarda de Teatre amb l'obra "Històries de Saló"
DTSTART;TZID=Europe/Madrid;VALUE=DATE-TIME:20081026T190000
DTEND;TZID=Europe/Madrid;VALUE=DATE-TIME:20081026T200000
DTSTAMP;VALUE=DATE-TIME:20260426T004229Z
UID:52251da1e99bb520a687647569ec3523
CREATED;VALUE=DATE-TIME:20081026T000000Z
CATEGORIES:Teatre,Agenda cultural
LOCATION:Centre Cívic El Gorg
ORGANIZER:Regidoria de Cultura
DESCRIPTION:Correllengua 2008
URL:https://www.svmontalt.cat/document.php?id=2396
END:VEVENT
END:VCALENDAR