BEGIN:VCALENDAR
VERSION:2.0
PRODID:-//Plone.org//NONSGML plone.app.event//EN
X-WR-TIMEZONE:Europe/Madrid
BEGIN:VEVENT
SUMMARY:Anem al Teatre: "Els nois d'història"
DTSTART;TZID=Europe/Madrid;VALUE=DATE-TIME:20081121T190000
DTEND;TZID=Europe/Madrid;VALUE=DATE-TIME:20081121T200000
DTSTAMP;VALUE=DATE-TIME:20260426T044708Z
UID:0ff6fbcd2db2d2d2b680f0444e06987e
CREATED;VALUE=DATE-TIME:20081121T000000Z
CATEGORIES:Teatre,Agenda cultural
LOCATION:Sortida: Davant el Centre Cívic El Gorg
ORGANIZER:Associació de Gent Gran Els Xurravins
COMMENT:Preu: Bus i entrada, 30&#128;
DESCRIPTION:Sortida al Teatre Goya de Barcelona
URL:https://www.svmontalt.cat/document.php?id=2441
END:VEVENT
END:VCALENDAR