BEGIN:VCALENDAR
VERSION:2.0
PRODID:-//Plone.org//NONSGML plone.app.event//EN
X-WR-TIMEZONE:Europe/Madrid
BEGIN:VEVENT
SUMMARY:Cinefòrum: "No es país para viejos"
DTSTART;TZID=Europe/Madrid;VALUE=DATE-TIME:20081101T180000
DTEND;TZID=Europe/Madrid;VALUE=DATE-TIME:20081101T190000
DTSTAMP;VALUE=DATE-TIME:20260426T025948Z
UID:74451b3b7ecc012f085c960fda8b0bf0
CREATED;VALUE=DATE-TIME:20081101T000000Z
CATEGORIES:Cinema,Agenda cultural
LOCATION:Centre Cívic El Gorg
ORGANIZER:Biblioteca Municipal La Muntala
URL:https://www.svmontalt.cat/document.php?id=2455
END:VEVENT
END:VCALENDAR