BEGIN:VCALENDAR
VERSION:2.0
PRODID:-//Plone.org//NONSGML plone.app.event//EN
X-WR-TIMEZONE:Europe/Madrid
BEGIN:VEVENT
SUMMARY:Balls de Saló al Cívic
DTSTART;TZID=Europe/Madrid;VALUE=DATE-TIME:20081130T180000
DTEND;TZID=Europe/Madrid;VALUE=DATE-TIME:20081130T190000
DTSTAMP;VALUE=DATE-TIME:20260426T043548Z
UID:fb8f95b8a55e0d2156b22efa72ee0221
CREATED;VALUE=DATE-TIME:20081130T000000Z
CATEGORIES:Dansa,Agenda cultural
LOCATION:Centre Cívic El Gorg
ORGANIZER:Regidoria de Cultura
COMMENT:Preu: Gratuït
URL:https://www.svmontalt.cat/document.php?id=2475
END:VEVENT
END:VCALENDAR