BEGIN:VCALENDAR
VERSION:2.0
PRODID:-//Plone.org//NONSGML plone.app.event//EN
X-WR-TIMEZONE:Europe/Madrid
BEGIN:VEVENT
SUMMARY:L'Escola de Gimnàstica Artística obre portes a les famílies de les seves gimnastes
DTSTART;TZID=Europe/Madrid;VALUE=DATE-TIME:20081217T171500
DTEND;TZID=Europe/Madrid;VALUE=DATE-TIME:20081217T181500
DTSTAMP;VALUE=DATE-TIME:20260420T213956Z
UID:335c72665ae5a81a82b9f46a39e45142
CREATED;VALUE=DATE-TIME:20081217T000000Z
CATEGORIES:Esports
LOCATION:Pavelló Municipal Toni Sors
ORGANIZER:Regidoria d'Esports
COMMENT:Preu: Gratuït
Durada: Dies 16 i 17 de desembre
DESCRIPTION:Classe oberta
URL:https://www.svmontalt.cat/document.php?id=2525
END:VEVENT
END:VCALENDAR