BEGIN:VCALENDAR
VERSION:2.0
PRODID:-//Plone.org//NONSGML plone.app.event//EN
X-WR-TIMEZONE:Europe/Madrid
BEGIN:VEVENT
SUMMARY:Estrena del Pessebre: "Un conte de contes o contes a la vora del foc"
DTSTART;TZID=Europe/Madrid;VALUE=DATE-TIME:20081221T180000
DTEND;TZID=Europe/Madrid;VALUE=DATE-TIME:20081221T190000
DTSTAMP;VALUE=DATE-TIME:20260426T031844Z
UID:4b8629463f1a315962db00ec2ea83f04
CREATED;VALUE=DATE-TIME:20081221T000000Z
CATEGORIES:Exposició,Agenda cultural
LOCATION:Sala 1 de l'Avinguda Verge de Montserrat, s/n
ORGANIZER:Amics dels Pessebres de Sant Vicenç
COMMENT:Preu: Gratuït
URL:https://www.svmontalt.cat/document.php?id=2533
END:VEVENT
END:VCALENDAR