BEGIN:VCALENDAR
VERSION:2.0
PRODID:-//Plone.org//NONSGML plone.app.event//EN
X-WR-TIMEZONE:Europe/Madrid
BEGIN:VEVENT
SUMMARY:Bibliogimcana Familiar
DTSTART;TZID=Europe/Madrid;VALUE=DATE-TIME:20090117T100000
DTEND;TZID=Europe/Madrid;VALUE=DATE-TIME:20090117T110000
DTSTAMP;VALUE=DATE-TIME:20260422T044932Z
UID:e16cb6f4d7ec9153838c117b51a789ad
CREATED;VALUE=DATE-TIME:20090117T000000Z
LOCATION:Biblioteca Municipal La Muntala
ORGANIZER:Biblioteca Municipal La Muntala
COMMENT:Preu: Gratuït
URL:https://www.svmontalt.cat/document.php?id=2596
END:VEVENT
END:VCALENDAR