BEGIN:VCALENDAR
VERSION:2.0
PRODID:-//Plone.org//NONSGML plone.app.event//EN
X-WR-TIMEZONE:Europe/Madrid
BEGIN:VEVENT
SUMMARY:Mercat Medieval a la plaça de l'Església
DTSTART;TZID=Europe/Madrid;VALUE=DATE-TIME:20090117T100000
DTEND;TZID=Europe/Madrid;VALUE=DATE-TIME:20090117T110000
DTSTAMP;VALUE=DATE-TIME:20260422T043023Z
UID:b566335dfbd819a92054bc29aafb4f57
CREATED;VALUE=DATE-TIME:20090117T000000Z
CATEGORIES:Festa,Agenda cultural
LOCATION:Plaça de l'Església
ORGANIZER:Regidoria de Cultura
COMMENT:Preu: Gratuït
Durada: Dissabte, 17, i diumenge, 18; matí i tarda
DESCRIPTION:Dissabte, 17, i diumenge, 18
URL:https://www.svmontalt.cat/document.php?id=2607
END:VEVENT
END:VCALENDAR